92.4468998084
0.0000000000
0.0000000000
-92.4468998084
171870.5357611252
8809284.1453321613
