92.0822788762
0.0000000000
0.0000000000
-92.0822788762
458041.3325517044
8926877.9389166143
