5.0000000000
0.0000000000
0.0000000000
-5.0000000000
169405.9382761399
8803918.9277283717
