5.0000000000
0.0000000000
0.0000000000
-5.0000000000
748431.5330699445
8743618.8259515148
