5.0000000000
0.0000000000
0.0000000000
-5.0000000000
627220.2379331484
8837741.3852966428
