5,0000000000
0,0000000000
0,0000000000
-5,0000000000
455231,6618738998
8929797,4209973756
