30.0000000000
0.0000000000
0.0000000000
-30.0000000000
373200.0000000506
8997100.0000001360
