30.0000000000
0.0000000000
0.0000000000
-30.0000000000
506999.9999999956
8837500.0000001993
