30.0000000000
0.0000000000
0.0000000000
-30.0000000000
542099.9999999809
8997100.0000001192
