30.0000000000
0.0000000000
0.0000000000
-30.0000000000
602099.9999999037
8517700.0000003967
