30.0000000000
0.0000000000
0.0000000000
-30.0000000000
638099.9999998930
8677000.0000002645
