30.0000000000
0.0000000000
0.0000000000
-30.0000000000
675299.9999998955
8836600.0000001583
