30.0000000000
0.0000000000
0.0000000000
-30.0000000000
674399.9999998946
8836600.0000001583
