30.0000000000
0.0000000000
0.0000000000
-30.0000000000
710399.9999999059
8996500.0000000782
