30.0000000000
0.0000000000
0.0000000000
-30.0000000000
191700.0000001652
8836300.0000002123
