0.25000000
0.00000000
0.00000000
-0.25000000
593397.2500
9014324.2500
