0.25000000
0.00000000
0.00000000
-0.25000000
590519.7500
9021688.5000
