0.25000000
0.00000000
0.00000000
-0.25000000
587642.0000
9014324.2500
