0.25000000
0.00000000
0.00000000
-0.25000000
584764.5000
9021165.0000
