1.00000000
0.00000000
0.00000000
-1.00000000
599152.0000
9009415.0000
