1.00000000
0.00000000
0.00000000
-1.00000000
596274.0000
9019234.0000
