1.00000000
0.00000000
0.00000000
-1.00000000
593397.0000
9006961.0000
