1.00000000
0.00000000
0.00000000
-1.00000000
591958.0000
8999596.0000
