1.00000000
0.00000000
0.00000000
-1.00000000
590519.0000
9024144.0000
