1.00000000
0.00000000
0.00000000
-1.00000000
590519.0000
9011870.0000
