1.00000000
0.00000000
0.00000000
-1.00000000
587642.0000
9014325.0000
