1.00000000
0.00000000
0.00000000
-1.00000000
567499.0000
9041272.0000
