1.00000000
0.00000000
0.00000000
-1.00000000
584764.0000
9006437.0000
