1.00000000
0.00000000
0.00000000
-1.00000000
609224.0000
8995914.0000
