1.00000000
0.00000000
0.00000000
-1.00000000
612101.0000
8993460.0000
