1.00000000
0.00000000
0.00000000
-1.00000000
636561.0000
8994687.0000
