1.00000000
0.00000000
0.00000000
-1.00000000
648071.0000
8992232.0000
