1.00000000
0.00000000
0.00000000
-1.00000000
662459.0000
9011870.0000
