1.00000000
0.00000000
0.00000000
-1.00000000
647318.0000
8975049.0000
