1.00000000
0.00000000
0.00000000
-1.00000000
581887.0000
9023620.0000
