1.00000000
0.00000000
0.00000000
-1.00000000
649961.0000
8982413.0000
