1.00000000
0.00000000
0.00000000
-1.00000000
650667.0000
8984868.0000
