1.00000000
0.00000000
0.00000000
-1.00000000
653826.0000
8992232.0000
