1.00000000
0.00000000
0.00000000
-1.00000000
655265.0000
9002051.0000
