1.00000000
0.00000000
0.00000000
-1.00000000
644440.0000
8965230.0000
