1.00000000
0.00000000
0.00000000
-1.00000000
564621.0000
9046117.0000
