1.00000000
0.00000000
0.00000000
-1.00000000
647083.0000
8982413.0000
