1.00000000
0.00000000
0.00000000
-1.00000000
647789.0000
8984868.0000
