1.00000000
0.00000000
0.00000000
-1.00000000
649228.0000
8987323.0000
