1.00000000
0.00000000
0.00000000
-1.00000000
653826.0000
9011870.0000
