1.00000000
0.00000000
0.00000000
-1.00000000
641562.0000
8972594.0000
