1.00000000
0.00000000
0.00000000
-1.00000000
641562.0000
8975049.0000
