1.00000000
0.00000000
0.00000000
-1.00000000
646350.0000
8987323.0000
