1.00000000
0.00000000
0.00000000
-1.00000000
648071.0000
9009415.0000
