1.00000000
0.00000000
0.00000000
-1.00000000
643755.0000
9004506.0000
